BEGIN:VCALENDAR
VERSION:2.0
PRODID:-//oksko - ECPv6.15.20//NONSGML v1.0//EN
CALSCALE:GREGORIAN
METHOD:PUBLISH
X-WR-CALNAME:oksko
X-ORIGINAL-URL:https://oksko.ch
X-WR-CALDESC:Évènements pour oksko
REFRESH-INTERVAL;VALUE=DURATION:PT1H
X-Robots-Tag:noindex
X-PUBLISHED-TTL:PT1H
BEGIN:VTIMEZONE
TZID:Europe/Zurich
BEGIN:DAYLIGHT
TZOFFSETFROM:+0100
TZOFFSETTO:+0200
TZNAME:CEST
DTSTART:20240331T010000
END:DAYLIGHT
BEGIN:STANDARD
TZOFFSETFROM:+0200
TZOFFSETTO:+0100
TZNAME:CET
DTSTART:20241027T010000
END:STANDARD
BEGIN:DAYLIGHT
TZOFFSETFROM:+0100
TZOFFSETTO:+0200
TZNAME:CEST
DTSTART:20250330T010000
END:DAYLIGHT
BEGIN:STANDARD
TZOFFSETFROM:+0200
TZOFFSETTO:+0100
TZNAME:CET
DTSTART:20251026T010000
END:STANDARD
BEGIN:DAYLIGHT
TZOFFSETFROM:+0100
TZOFFSETTO:+0200
TZNAME:CEST
DTSTART:20260329T010000
END:DAYLIGHT
BEGIN:STANDARD
TZOFFSETFROM:+0200
TZOFFSETTO:+0100
TZNAME:CET
DTSTART:20261025T010000
END:STANDARD
END:VTIMEZONE
BEGIN:VEVENT
DTSTART;TZID=Europe/Zurich:20250304T093000
DTEND;TZID=Europe/Zurich:20250304T113000
DTSTAMP:20260421T203248
CREATED:20241207T192314Z
LAST-MODIFIED:20241207T192314Z
UID:10001516-1741080600-1741087800@oksko.ch
SUMMARY:Aquarelle
DESCRIPTION:Cours d’aquarelle en 8 leçons\nChaque leçon explore un thème spécifique et propose entre une et trois composants clés pour atteindre des objectifs précis (technique\, composition\, valeurs\, mélange des couleurs\, créativité\, etc.).\nCes sessions permettent aux participants de progresser dans leur pratique de l’aquarelle tout en respectant leur rythme et en valorisant leur univers artistique personnel.
URL:https://oksko.ch/cours-stage/aquarelle-6/2025-03-04/
LOCATION:Atelier OKSKO\, Rue de Montagny 15\, Yverdon-les-Bains\, Vaud\, 1400\, Suisse
CATEGORIES:cours,cours mardi matin
ATTACH;FMTTYPE=image/jpeg:https://oksko.ch/wp-content/uploads/2024/10/20240514_112743.jpg
END:VEVENT
BEGIN:VEVENT
DTSTART;TZID=Europe/Zurich:20250304T140000
DTEND;TZID=Europe/Zurich:20250304T160000
DTSTAMP:20260421T203248
CREATED:20241207T192111Z
LAST-MODIFIED:20241207T192125Z
UID:10001500-1741096800-1741104000@oksko.ch
SUMMARY:Aquarelle
DESCRIPTION:Cours d’aquarelle en 8 leçons\nChaque leçon explore un thème spécifique et propose entre une et trois composants clés pour atteindre des objectifs précis (technique\, composition\, valeurs\, mélange des couleurs\, créativité\, etc.).\nCes sessions permettent aux participants de progresser dans leur pratique de l’aquarelle tout en respectant leur rythme et en valorisant leur univers artistique personnel.
URL:https://oksko.ch/cours-stage/aquarelle-5/2025-03-04/
LOCATION:Atelier OKSKO\, Rue de Montagny 15\, Yverdon-les-Bains\, Vaud\, 1400\, Suisse
CATEGORIES:cours,cours mardi après-midi
ATTACH;FMTTYPE=image/jpeg:https://oksko.ch/wp-content/uploads/2024/10/WhatsApp-Image-2024-10-20-at-12.52.40.jpeg
END:VEVENT
BEGIN:VEVENT
DTSTART;TZID=Europe/Zurich:20250305T173000
DTEND;TZID=Europe/Zurich:20250305T193000
DTSTAMP:20260421T203248
CREATED:20241207T185852Z
LAST-MODIFIED:20241223T134727Z
UID:10001468-1741195800-1741203000@oksko.ch
SUMMARY:Atelier dessin-peinture
DESCRIPTION:Ce cours vise à encourager la créativité et l’exploration individuelle à travers des projets personnels. Les participants ont l’opportunité de choisir des projets qui les passionnent et qui reflètent leurs intérêts personnels\, tout en développant leurs compétences dans différentes techniques. L’enseignante conseille et et guide pour aider les participants à réussir dans leurs projets.
URL:https://oksko.ch/cours-stage/atelier-dessin-peinture/2025-03-05/
LOCATION:Atelier OKSKO\, Rue de Montagny 15\, Yverdon-les-Bains\, Vaud\, 1400\, Suisse
CATEGORIES:cours,cours mercredi
ATTACH;FMTTYPE=image/jpeg:https://oksko.ch/wp-content/uploads/2024/07/Oksana-1.jpg
END:VEVENT
BEGIN:VEVENT
DTSTART;TZID=Europe/Zurich:20250307T090000
DTEND;TZID=Europe/Zurich:20250307T110000
DTSTAMP:20260421T203248
CREATED:20241207T181123Z
LAST-MODIFIED:20241207T182556Z
UID:10001420-1741338000-1741345200@oksko.ch
SUMMARY:Aquarelle et créativité
DESCRIPTION:Cours d’aquarelle en 8 leçons\nChaque leçon explore un thème spécifique et propose entre une et trois composants clés pour atteindre des objectifs précis (technique\, composition\, valeurs\, mélange des couleurs\, créativité\, etc.).\nCes sessions permettent aux participants de progresser dans leur pratique de l’aquarelle tout en respectant leur rythme et en valorisant leur univers artistique personnel.
URL:https://oksko.ch/cours-stage/30513/2025-03-07/
LOCATION:Atelier OKSKO\, Rue de Montagny 15\, Yverdon-les-Bains\, Vaud\, 1400\, Suisse
CATEGORIES:cours,cours vendredi
ATTACH;FMTTYPE=image/jpeg:https://oksko.ch/wp-content/uploads/2024/10/20240514_112732.jpg
END:VEVENT
BEGIN:VEVENT
DTSTART;TZID=Europe/Zurich:20250311T093000
DTEND;TZID=Europe/Zurich:20250311T113000
DTSTAMP:20260421T203248
CREATED:20250221T112224Z
LAST-MODIFIED:20250221T112748Z
UID:10001537-1741685400-1741692600@oksko.ch
SUMMARY:Aquarelle
DESCRIPTION:Cours d’aquarelle en 8 leçons\nChaque leçon explore un thème spécifique et propose entre une et trois composants clés pour atteindre des objectifs précis (technique\, composition\, valeurs\, mélange des couleurs\, créativité\, etc.).\nCes sessions permettent aux participants de progresser dans leur pratique de l’aquarelle tout en respectant leur rythme et en valorisant leur univers artistique personnel.
URL:https://oksko.ch/cours-stage/aquarelle-7-2/2025-03-11/
LOCATION:Atelier OKSKO\, Rue de Montagny 15\, Yverdon-les-Bains\, Vaud\, 1400\, Suisse
CATEGORIES:cours,cours mardi matin
ATTACH;FMTTYPE=image/jpeg:https://oksko.ch/wp-content/uploads/2025/02/20250221_121900.jpg
END:VEVENT
BEGIN:VEVENT
DTSTART;TZID=Europe/Zurich:20250311T140000
DTEND;TZID=Europe/Zurich:20250311T160000
DTSTAMP:20260421T203249
CREATED:20250221T113239Z
LAST-MODIFIED:20250221T113239Z
UID:10001553-1741701600-1741708800@oksko.ch
SUMMARY:Aquarelle
DESCRIPTION:Cours d’aquarelle en 8 leçons\nChaque leçon explore un thème spécifique et propose entre une et trois composants clés pour atteindre des objectifs précis (technique\, composition\, valeurs\, mélange des couleurs\, créativité\, etc.).\nCes sessions permettent aux participants de progresser dans leur pratique de l’aquarelle tout en respectant leur rythme et en valorisant leur univers artistique personnel.
URL:https://oksko.ch/cours-stage/aquarelle-7/2025-03-11/
LOCATION:Atelier OKSKO\, Rue de Montagny 15\, Yverdon-les-Bains\, Vaud\, 1400\, Suisse
CATEGORIES:cours,cours mardi après-midi
ATTACH;FMTTYPE=image/jpeg:https://oksko.ch/wp-content/uploads/2024/10/WhatsApp-Image-2024-10-20-at-12.52.40.jpeg
END:VEVENT
BEGIN:VEVENT
DTSTART;TZID=Europe/Zurich:20250312T173000
DTEND;TZID=Europe/Zurich:20250312T193000
DTSTAMP:20260421T203249
CREATED:20250221T114131Z
LAST-MODIFIED:20250317T172408Z
UID:10001569-1741800600-1741807800@oksko.ch
SUMMARY:Atelier dessin-peinture
DESCRIPTION:Ce cours vise à encourager la créativité et l’exploration individuelle à travers des projets personnels. Les participants ont l’opportunité de choisir des projets qui les passionnent et qui reflètent leurs intérêts personnels\, tout en développant leurs compétences dans différentes techniques. L’enseignante conseille et et guide pour aider les participants à réussir dans leurs projets.
URL:https://oksko.ch/cours-stage/atelier-dessin-peinture-3-2/2025-03-12/
LOCATION:Atelier OKSKO\, Rue de Montagny 15\, Yverdon-les-Bains\, Vaud\, 1400\, Suisse
CATEGORIES:cours,cours mercredi
ATTACH;FMTTYPE=image/jpeg:https://oksko.ch/wp-content/uploads/2024/10/Oksana-contact-1300.jpg
END:VEVENT
BEGIN:VEVENT
DTSTART;TZID=Europe/Zurich:20250314T090000
DTEND;TZID=Europe/Zurich:20250314T110000
DTSTAMP:20260421T203249
CREATED:20250221T120901Z
LAST-MODIFIED:20250401T160135Z
UID:10001584-1741942800-1741950000@oksko.ch
SUMMARY:Aquarelle et créativité
DESCRIPTION:Cours d’aquarelle en 8 leçons\nChaque leçon explore un thème spécifique et propose entre une et trois composants clés pour atteindre des objectifs précis (technique\, composition\, valeurs\, mélange des couleurs\, créativité\, etc.).\nCes sessions permettent aux participants de progresser dans leur pratique de l’aquarelle tout en respectant leur rythme et en valorisant leur univers artistique personnel.
URL:https://oksko.ch/cours-stage/aquarelle-et-creativite-2/2025-03-14/
LOCATION:Atelier OKSKO\, Rue de Montagny 15\, Yverdon-les-Bains\, Vaud\, 1400\, Suisse
CATEGORIES:cours,cours vendredi
ATTACH;FMTTYPE=image/jpeg:https://oksko.ch/wp-content/uploads/2024/10/20240514_112732.jpg
END:VEVENT
BEGIN:VEVENT
DTSTART;TZID=Europe/Zurich:20250318T093000
DTEND;TZID=Europe/Zurich:20250318T113000
DTSTAMP:20260421T203249
CREATED:20250221T112224Z
LAST-MODIFIED:20250221T112748Z
UID:10001538-1742290200-1742297400@oksko.ch
SUMMARY:Aquarelle
DESCRIPTION:Cours d’aquarelle en 8 leçons\nChaque leçon explore un thème spécifique et propose entre une et trois composants clés pour atteindre des objectifs précis (technique\, composition\, valeurs\, mélange des couleurs\, créativité\, etc.).\nCes sessions permettent aux participants de progresser dans leur pratique de l’aquarelle tout en respectant leur rythme et en valorisant leur univers artistique personnel.
URL:https://oksko.ch/cours-stage/aquarelle-7-2/2025-03-18/
LOCATION:Atelier OKSKO\, Rue de Montagny 15\, Yverdon-les-Bains\, Vaud\, 1400\, Suisse
CATEGORIES:cours,cours mardi matin
ATTACH;FMTTYPE=image/jpeg:https://oksko.ch/wp-content/uploads/2025/02/20250221_121900.jpg
END:VEVENT
BEGIN:VEVENT
DTSTART;TZID=Europe/Zurich:20250318T140000
DTEND;TZID=Europe/Zurich:20250318T160000
DTSTAMP:20260421T203249
CREATED:20250221T113239Z
LAST-MODIFIED:20250221T113239Z
UID:10001554-1742306400-1742313600@oksko.ch
SUMMARY:Aquarelle
DESCRIPTION:Cours d’aquarelle en 8 leçons\nChaque leçon explore un thème spécifique et propose entre une et trois composants clés pour atteindre des objectifs précis (technique\, composition\, valeurs\, mélange des couleurs\, créativité\, etc.).\nCes sessions permettent aux participants de progresser dans leur pratique de l’aquarelle tout en respectant leur rythme et en valorisant leur univers artistique personnel.
URL:https://oksko.ch/cours-stage/aquarelle-7/2025-03-18/
LOCATION:Atelier OKSKO\, Rue de Montagny 15\, Yverdon-les-Bains\, Vaud\, 1400\, Suisse
CATEGORIES:cours,cours mardi après-midi
ATTACH;FMTTYPE=image/jpeg:https://oksko.ch/wp-content/uploads/2024/10/WhatsApp-Image-2024-10-20-at-12.52.40.jpeg
END:VEVENT
BEGIN:VEVENT
DTSTART;TZID=Europe/Zurich:20250319T173000
DTEND;TZID=Europe/Zurich:20250319T193000
DTSTAMP:20260421T203249
CREATED:20250221T215524Z
LAST-MODIFIED:20250316T231004Z
UID:10001592-1742405400-1742412600@oksko.ch
SUMMARY:Séance de dessin de modèle vivant
DESCRIPTION:Les séances de dessin de modèle vivant sont ouvertes à tous\, du débutant à l’artiste confirmé. C’est une occasion privilégiée pour pratiquer le dessin d’observation\, affiner son regard et expérimenter diverses techniques. \nLes poses varient entre des études courtes pour saisir l’essence du mouvement et des poses plus longues pour approfondir les détails et la construction. Les débutants sont guidés et bénéficient de conseils pour aborder le croquis\, tandis que les plus expérimentés peuvent explorer leur propre style en toute liberté. \nDans une ambiance conviviale et studieuse\, chaque séance permet de capturer l’énergie\, le rythme et la beauté des formes humaines.\nPrix: 40.- / séance (modèle inclus)
URL:https://oksko.ch/cours-stage/seance-de-dessin-de-modele-vivant/
LOCATION:Atelier OKSKO\, Rue de Montagny 15\, Yverdon-les-Bains\, Vaud\, 1400\, Suisse
CATEGORIES:stages
ATTACH;FMTTYPE=image/jpeg:https://oksko.ch/wp-content/uploads/2025/02/20250205_194509-scaled.jpg
END:VEVENT
BEGIN:VEVENT
DTSTART;TZID=Europe/Zurich:20250321T090000
DTEND;TZID=Europe/Zurich:20250321T110000
DTSTAMP:20260421T203249
CREATED:20250221T120901Z
LAST-MODIFIED:20250401T160135Z
UID:10001585-1742547600-1742554800@oksko.ch
SUMMARY:Aquarelle et créativité
DESCRIPTION:Cours d’aquarelle en 8 leçons\nChaque leçon explore un thème spécifique et propose entre une et trois composants clés pour atteindre des objectifs précis (technique\, composition\, valeurs\, mélange des couleurs\, créativité\, etc.).\nCes sessions permettent aux participants de progresser dans leur pratique de l’aquarelle tout en respectant leur rythme et en valorisant leur univers artistique personnel.
URL:https://oksko.ch/cours-stage/aquarelle-et-creativite-2/2025-03-21/
LOCATION:Atelier OKSKO\, Rue de Montagny 15\, Yverdon-les-Bains\, Vaud\, 1400\, Suisse
CATEGORIES:cours,cours vendredi
ATTACH;FMTTYPE=image/jpeg:https://oksko.ch/wp-content/uploads/2024/10/20240514_112732.jpg
END:VEVENT
BEGIN:VEVENT
DTSTART;TZID=Europe/Zurich:20250325T093000
DTEND;TZID=Europe/Zurich:20250325T113000
DTSTAMP:20260421T203249
CREATED:20250221T112224Z
LAST-MODIFIED:20250221T112748Z
UID:10001539-1742895000-1742902200@oksko.ch
SUMMARY:Aquarelle
DESCRIPTION:Cours d’aquarelle en 8 leçons\nChaque leçon explore un thème spécifique et propose entre une et trois composants clés pour atteindre des objectifs précis (technique\, composition\, valeurs\, mélange des couleurs\, créativité\, etc.).\nCes sessions permettent aux participants de progresser dans leur pratique de l’aquarelle tout en respectant leur rythme et en valorisant leur univers artistique personnel.
URL:https://oksko.ch/cours-stage/aquarelle-7-2/2025-03-25/
LOCATION:Atelier OKSKO\, Rue de Montagny 15\, Yverdon-les-Bains\, Vaud\, 1400\, Suisse
CATEGORIES:cours,cours mardi matin
ATTACH;FMTTYPE=image/jpeg:https://oksko.ch/wp-content/uploads/2025/02/20250221_121900.jpg
END:VEVENT
BEGIN:VEVENT
DTSTART;TZID=Europe/Zurich:20250325T140000
DTEND;TZID=Europe/Zurich:20250325T160000
DTSTAMP:20260421T203249
CREATED:20250221T113239Z
LAST-MODIFIED:20250221T113239Z
UID:10001555-1742911200-1742918400@oksko.ch
SUMMARY:Aquarelle
DESCRIPTION:Cours d’aquarelle en 8 leçons\nChaque leçon explore un thème spécifique et propose entre une et trois composants clés pour atteindre des objectifs précis (technique\, composition\, valeurs\, mélange des couleurs\, créativité\, etc.).\nCes sessions permettent aux participants de progresser dans leur pratique de l’aquarelle tout en respectant leur rythme et en valorisant leur univers artistique personnel.
URL:https://oksko.ch/cours-stage/aquarelle-7/2025-03-25/
LOCATION:Atelier OKSKO\, Rue de Montagny 15\, Yverdon-les-Bains\, Vaud\, 1400\, Suisse
CATEGORIES:cours,cours mardi après-midi
ATTACH;FMTTYPE=image/jpeg:https://oksko.ch/wp-content/uploads/2024/10/WhatsApp-Image-2024-10-20-at-12.52.40.jpeg
END:VEVENT
BEGIN:VEVENT
DTSTART;TZID=Europe/Zurich:20250326T173000
DTEND;TZID=Europe/Zurich:20250326T193000
DTSTAMP:20260421T203249
CREATED:20250221T114131Z
LAST-MODIFIED:20250317T172408Z
UID:10001570-1743010200-1743017400@oksko.ch
SUMMARY:Atelier dessin-peinture
DESCRIPTION:Ce cours vise à encourager la créativité et l’exploration individuelle à travers des projets personnels. Les participants ont l’opportunité de choisir des projets qui les passionnent et qui reflètent leurs intérêts personnels\, tout en développant leurs compétences dans différentes techniques. L’enseignante conseille et et guide pour aider les participants à réussir dans leurs projets.
URL:https://oksko.ch/cours-stage/atelier-dessin-peinture-3-2/2025-03-26/
LOCATION:Atelier OKSKO\, Rue de Montagny 15\, Yverdon-les-Bains\, Vaud\, 1400\, Suisse
CATEGORIES:cours,cours mercredi
ATTACH;FMTTYPE=image/jpeg:https://oksko.ch/wp-content/uploads/2024/10/Oksana-contact-1300.jpg
END:VEVENT
BEGIN:VEVENT
DTSTART;TZID=Europe/Zurich:20250328T090000
DTEND;TZID=Europe/Zurich:20250328T110000
DTSTAMP:20260421T203249
CREATED:20250221T120901Z
LAST-MODIFIED:20250401T160135Z
UID:10001586-1743152400-1743159600@oksko.ch
SUMMARY:Aquarelle et créativité
DESCRIPTION:Cours d’aquarelle en 8 leçons\nChaque leçon explore un thème spécifique et propose entre une et trois composants clés pour atteindre des objectifs précis (technique\, composition\, valeurs\, mélange des couleurs\, créativité\, etc.).\nCes sessions permettent aux participants de progresser dans leur pratique de l’aquarelle tout en respectant leur rythme et en valorisant leur univers artistique personnel.
URL:https://oksko.ch/cours-stage/aquarelle-et-creativite-2/2025-03-28/
LOCATION:Atelier OKSKO\, Rue de Montagny 15\, Yverdon-les-Bains\, Vaud\, 1400\, Suisse
CATEGORIES:cours,cours vendredi
ATTACH;FMTTYPE=image/jpeg:https://oksko.ch/wp-content/uploads/2024/10/20240514_112732.jpg
END:VEVENT
END:VCALENDAR