BEGIN:VCALENDAR
VERSION:2.0
PRODID:-//oksko - ECPv6.15.20//NONSGML v1.0//EN
CALSCALE:GREGORIAN
METHOD:PUBLISH
X-WR-CALNAME:oksko
X-ORIGINAL-URL:https://oksko.ch
X-WR-CALDESC:Évènements pour oksko
REFRESH-INTERVAL;VALUE=DURATION:PT1H
X-Robots-Tag:noindex
X-PUBLISHED-TTL:PT1H
BEGIN:VTIMEZONE
TZID:Europe/Zurich
BEGIN:DAYLIGHT
TZOFFSETFROM:+0100
TZOFFSETTO:+0200
TZNAME:CEST
DTSTART:20240331T010000
END:DAYLIGHT
BEGIN:STANDARD
TZOFFSETFROM:+0200
TZOFFSETTO:+0100
TZNAME:CET
DTSTART:20241027T010000
END:STANDARD
BEGIN:DAYLIGHT
TZOFFSETFROM:+0100
TZOFFSETTO:+0200
TZNAME:CEST
DTSTART:20250330T010000
END:DAYLIGHT
BEGIN:STANDARD
TZOFFSETFROM:+0200
TZOFFSETTO:+0100
TZNAME:CET
DTSTART:20251026T010000
END:STANDARD
BEGIN:DAYLIGHT
TZOFFSETFROM:+0100
TZOFFSETTO:+0200
TZNAME:CEST
DTSTART:20260329T010000
END:DAYLIGHT
BEGIN:STANDARD
TZOFFSETFROM:+0200
TZOFFSETTO:+0100
TZNAME:CET
DTSTART:20261025T010000
END:STANDARD
END:VTIMEZONE
BEGIN:VEVENT
DTSTART;TZID=Europe/Zurich:20250401T093000
DTEND;TZID=Europe/Zurich:20250401T113000
DTSTAMP:20260421T190158
CREATED:20250221T112224Z
LAST-MODIFIED:20250221T112748Z
UID:10001540-1743499800-1743507000@oksko.ch
SUMMARY:Aquarelle
DESCRIPTION:Cours d’aquarelle en 8 leçons\nChaque leçon explore un thème spécifique et propose entre une et trois composants clés pour atteindre des objectifs précis (technique\, composition\, valeurs\, mélange des couleurs\, créativité\, etc.).\nCes sessions permettent aux participants de progresser dans leur pratique de l’aquarelle tout en respectant leur rythme et en valorisant leur univers artistique personnel.
URL:https://oksko.ch/cours-stage/aquarelle-7-2/2025-04-01/
LOCATION:Atelier OKSKO\, Rue de Montagny 15\, Yverdon-les-Bains\, Vaud\, 1400\, Suisse
CATEGORIES:cours,cours mardi matin
ATTACH;FMTTYPE=image/jpeg:https://oksko.ch/wp-content/uploads/2025/02/20250221_121900.jpg
END:VEVENT
BEGIN:VEVENT
DTSTART;TZID=Europe/Zurich:20250401T140000
DTEND;TZID=Europe/Zurich:20250401T160000
DTSTAMP:20260421T190158
CREATED:20250221T113239Z
LAST-MODIFIED:20250221T113239Z
UID:10001556-1743516000-1743523200@oksko.ch
SUMMARY:Aquarelle
DESCRIPTION:Cours d’aquarelle en 8 leçons\nChaque leçon explore un thème spécifique et propose entre une et trois composants clés pour atteindre des objectifs précis (technique\, composition\, valeurs\, mélange des couleurs\, créativité\, etc.).\nCes sessions permettent aux participants de progresser dans leur pratique de l’aquarelle tout en respectant leur rythme et en valorisant leur univers artistique personnel.
URL:https://oksko.ch/cours-stage/aquarelle-7/2025-04-01/
LOCATION:Atelier OKSKO\, Rue de Montagny 15\, Yverdon-les-Bains\, Vaud\, 1400\, Suisse
CATEGORIES:cours,cours mardi après-midi
ATTACH;FMTTYPE=image/jpeg:https://oksko.ch/wp-content/uploads/2024/10/WhatsApp-Image-2024-10-20-at-12.52.40.jpeg
END:VEVENT
BEGIN:VEVENT
DTSTART;TZID=Europe/Zurich:20250402T173000
DTEND;TZID=Europe/Zurich:20250402T193000
DTSTAMP:20260421T190158
CREATED:20250221T114131Z
LAST-MODIFIED:20250317T172408Z
UID:10001571-1743615000-1743622200@oksko.ch
SUMMARY:Atelier dessin-peinture
DESCRIPTION:Ce cours vise à encourager la créativité et l’exploration individuelle à travers des projets personnels. Les participants ont l’opportunité de choisir des projets qui les passionnent et qui reflètent leurs intérêts personnels\, tout en développant leurs compétences dans différentes techniques. L’enseignante conseille et et guide pour aider les participants à réussir dans leurs projets.
URL:https://oksko.ch/cours-stage/atelier-dessin-peinture-3-2/2025-04-02/
LOCATION:Atelier OKSKO\, Rue de Montagny 15\, Yverdon-les-Bains\, Vaud\, 1400\, Suisse
CATEGORIES:cours,cours mercredi
ATTACH;FMTTYPE=image/jpeg:https://oksko.ch/wp-content/uploads/2024/10/Oksana-contact-1300.jpg
END:VEVENT
BEGIN:VEVENT
DTSTART;TZID=Europe/Zurich:20250404T090000
DTEND;TZID=Europe/Zurich:20250404T110000
DTSTAMP:20260421T190158
CREATED:20250221T120901Z
LAST-MODIFIED:20250401T160135Z
UID:10001587-1743757200-1743764400@oksko.ch
SUMMARY:Aquarelle et créativité
DESCRIPTION:Cours d’aquarelle en 8 leçons\nChaque leçon explore un thème spécifique et propose entre une et trois composants clés pour atteindre des objectifs précis (technique\, composition\, valeurs\, mélange des couleurs\, créativité\, etc.).\nCes sessions permettent aux participants de progresser dans leur pratique de l’aquarelle tout en respectant leur rythme et en valorisant leur univers artistique personnel.
URL:https://oksko.ch/cours-stage/aquarelle-et-creativite-2/2025-04-04/
LOCATION:Atelier OKSKO\, Rue de Montagny 15\, Yverdon-les-Bains\, Vaud\, 1400\, Suisse
CATEGORIES:cours,cours vendredi
ATTACH;FMTTYPE=image/jpeg:https://oksko.ch/wp-content/uploads/2024/10/20240514_112732.jpg
END:VEVENT
BEGIN:VEVENT
DTSTART;TZID=Europe/Zurich:20250408T093000
DTEND;TZID=Europe/Zurich:20250408T113000
DTSTAMP:20260421T190159
CREATED:20250221T112224Z
LAST-MODIFIED:20250221T112748Z
UID:10001541-1744104600-1744111800@oksko.ch
SUMMARY:Aquarelle
DESCRIPTION:Cours d’aquarelle en 8 leçons\nChaque leçon explore un thème spécifique et propose entre une et trois composants clés pour atteindre des objectifs précis (technique\, composition\, valeurs\, mélange des couleurs\, créativité\, etc.).\nCes sessions permettent aux participants de progresser dans leur pratique de l’aquarelle tout en respectant leur rythme et en valorisant leur univers artistique personnel.
URL:https://oksko.ch/cours-stage/aquarelle-7-2/2025-04-08/
LOCATION:Atelier OKSKO\, Rue de Montagny 15\, Yverdon-les-Bains\, Vaud\, 1400\, Suisse
CATEGORIES:cours,cours mardi matin
ATTACH;FMTTYPE=image/jpeg:https://oksko.ch/wp-content/uploads/2025/02/20250221_121900.jpg
END:VEVENT
BEGIN:VEVENT
DTSTART;TZID=Europe/Zurich:20250408T140000
DTEND;TZID=Europe/Zurich:20250408T160000
DTSTAMP:20260421T190159
CREATED:20250221T113239Z
LAST-MODIFIED:20250221T113239Z
UID:10001557-1744120800-1744128000@oksko.ch
SUMMARY:Aquarelle
DESCRIPTION:Cours d’aquarelle en 8 leçons\nChaque leçon explore un thème spécifique et propose entre une et trois composants clés pour atteindre des objectifs précis (technique\, composition\, valeurs\, mélange des couleurs\, créativité\, etc.).\nCes sessions permettent aux participants de progresser dans leur pratique de l’aquarelle tout en respectant leur rythme et en valorisant leur univers artistique personnel.
URL:https://oksko.ch/cours-stage/aquarelle-7/2025-04-08/
LOCATION:Atelier OKSKO\, Rue de Montagny 15\, Yverdon-les-Bains\, Vaud\, 1400\, Suisse
CATEGORIES:cours,cours mardi après-midi
ATTACH;FMTTYPE=image/jpeg:https://oksko.ch/wp-content/uploads/2024/10/WhatsApp-Image-2024-10-20-at-12.52.40.jpeg
END:VEVENT
BEGIN:VEVENT
DTSTART;TZID=Europe/Zurich:20250409T173000
DTEND;TZID=Europe/Zurich:20250409T193000
DTSTAMP:20260421T190159
CREATED:20250221T114131Z
LAST-MODIFIED:20250317T172408Z
UID:10001572-1744219800-1744227000@oksko.ch
SUMMARY:Atelier dessin-peinture
DESCRIPTION:Ce cours vise à encourager la créativité et l’exploration individuelle à travers des projets personnels. Les participants ont l’opportunité de choisir des projets qui les passionnent et qui reflètent leurs intérêts personnels\, tout en développant leurs compétences dans différentes techniques. L’enseignante conseille et et guide pour aider les participants à réussir dans leurs projets.
URL:https://oksko.ch/cours-stage/atelier-dessin-peinture-3-2/2025-04-09/
LOCATION:Atelier OKSKO\, Rue de Montagny 15\, Yverdon-les-Bains\, Vaud\, 1400\, Suisse
CATEGORIES:cours,cours mercredi
ATTACH;FMTTYPE=image/jpeg:https://oksko.ch/wp-content/uploads/2024/10/Oksana-contact-1300.jpg
END:VEVENT
BEGIN:VEVENT
DTSTART;TZID=Europe/Zurich:20250411T090000
DTEND;TZID=Europe/Zurich:20250411T110000
DTSTAMP:20260421T190159
CREATED:20250221T120901Z
LAST-MODIFIED:20250401T160135Z
UID:10001588-1744362000-1744369200@oksko.ch
SUMMARY:Aquarelle et créativité
DESCRIPTION:Cours d’aquarelle en 8 leçons\nChaque leçon explore un thème spécifique et propose entre une et trois composants clés pour atteindre des objectifs précis (technique\, composition\, valeurs\, mélange des couleurs\, créativité\, etc.).\nCes sessions permettent aux participants de progresser dans leur pratique de l’aquarelle tout en respectant leur rythme et en valorisant leur univers artistique personnel.
URL:https://oksko.ch/cours-stage/aquarelle-et-creativite-2/2025-04-11/
LOCATION:Atelier OKSKO\, Rue de Montagny 15\, Yverdon-les-Bains\, Vaud\, 1400\, Suisse
CATEGORIES:cours,cours vendredi
ATTACH;FMTTYPE=image/jpeg:https://oksko.ch/wp-content/uploads/2024/10/20240514_112732.jpg
END:VEVENT
BEGIN:VEVENT
DTSTART;TZID=Europe/Zurich:20250429T093000
DTEND;TZID=Europe/Zurich:20250429T113000
DTSTAMP:20260421T190159
CREATED:20250415T203333Z
LAST-MODIFIED:20250415T203333Z
UID:10001542-1745919000-1745926200@oksko.ch
SUMMARY:Aquarelle
DESCRIPTION:Cours d’aquarelle en 8 leçons\nChaque leçon explore un thème spécifique et propose entre une et trois composants clés pour atteindre des objectifs précis (technique\, composition\, valeurs\, mélange des couleurs\, créativité\, etc.).\nCes sessions permettent aux participants de progresser dans leur pratique de l’aquarelle tout en respectant leur rythme et en valorisant leur univers artistique personnel.
URL:https://oksko.ch/cours-stage/aquarelle-7-2-2/2025-04-29/
LOCATION:Atelier OKSKO\, Rue de Montagny 15\, Yverdon-les-Bains\, Vaud\, 1400\, Suisse
CATEGORIES:cours,cours mardi matin
ATTACH;FMTTYPE=image/jpeg:https://oksko.ch/wp-content/uploads/2025/02/20250221_121900.jpg
END:VEVENT
BEGIN:VEVENT
DTSTART;TZID=Europe/Zurich:20250429T140000
DTEND;TZID=Europe/Zurich:20250429T160000
DTSTAMP:20260421T190159
CREATED:20250221T113239Z
LAST-MODIFIED:20250221T113239Z
UID:10001558-1745935200-1745942400@oksko.ch
SUMMARY:Aquarelle
DESCRIPTION:Cours d’aquarelle en 8 leçons\nChaque leçon explore un thème spécifique et propose entre une et trois composants clés pour atteindre des objectifs précis (technique\, composition\, valeurs\, mélange des couleurs\, créativité\, etc.).\nCes sessions permettent aux participants de progresser dans leur pratique de l’aquarelle tout en respectant leur rythme et en valorisant leur univers artistique personnel.
URL:https://oksko.ch/cours-stage/aquarelle-7/2025-04-29/
LOCATION:Atelier OKSKO\, Rue de Montagny 15\, Yverdon-les-Bains\, Vaud\, 1400\, Suisse
CATEGORIES:cours,cours mardi après-midi
ATTACH;FMTTYPE=image/jpeg:https://oksko.ch/wp-content/uploads/2024/10/WhatsApp-Image-2024-10-20-at-12.52.40.jpeg
END:VEVENT
BEGIN:VEVENT
DTSTART;TZID=Europe/Zurich:20250430T173000
DTEND;TZID=Europe/Zurich:20250430T193000
DTSTAMP:20260421T190159
CREATED:20250221T114131Z
LAST-MODIFIED:20250317T172408Z
UID:10001573-1746034200-1746041400@oksko.ch
SUMMARY:Atelier dessin-peinture
DESCRIPTION:Ce cours vise à encourager la créativité et l’exploration individuelle à travers des projets personnels. Les participants ont l’opportunité de choisir des projets qui les passionnent et qui reflètent leurs intérêts personnels\, tout en développant leurs compétences dans différentes techniques. L’enseignante conseille et et guide pour aider les participants à réussir dans leurs projets.
URL:https://oksko.ch/cours-stage/atelier-dessin-peinture-3-2/2025-04-30/
LOCATION:Atelier OKSKO\, Rue de Montagny 15\, Yverdon-les-Bains\, Vaud\, 1400\, Suisse
CATEGORIES:cours,cours mercredi
ATTACH;FMTTYPE=image/jpeg:https://oksko.ch/wp-content/uploads/2024/10/Oksana-contact-1300.jpg
END:VEVENT
END:VCALENDAR